BEGIN:VCALENDAR
VERSION:2.0
PRODID:-//Ecole Sainte Marie | Petit-Mars - ECPv6.7.0//NONSGML v1.0//EN
CALSCALE:GREGORIAN
METHOD:PUBLISH
X-ORIGINAL-URL:https://www.ecolesaintemarie-pm.fr
X-WR-CALDESC:Évènements pour Ecole Sainte Marie | Petit-Mars
REFRESH-INTERVAL;VALUE=DURATION:PT1H
X-Robots-Tag:noindex
X-PUBLISHED-TTL:PT1H
BEGIN:VTIMEZONE
TZID:Europe/Paris
BEGIN:DAYLIGHT
TZOFFSETFROM:+0100
TZOFFSETTO:+0200
TZNAME:CEST
DTSTART:20190331T010000
END:DAYLIGHT
BEGIN:STANDARD
TZOFFSETFROM:+0200
TZOFFSETTO:+0100
TZNAME:CET
DTSTART:20191027T010000
END:STANDARD
BEGIN:DAYLIGHT
TZOFFSETFROM:+0100
TZOFFSETTO:+0200
TZNAME:CEST
DTSTART:20200329T010000
END:DAYLIGHT
BEGIN:STANDARD
TZOFFSETFROM:+0200
TZOFFSETTO:+0100
TZNAME:CET
DTSTART:20201025T010000
END:STANDARD
END:VTIMEZONE
BEGIN:VEVENT
DTSTART;TZID=Europe/Paris:20200320T200000
DTEND;TZID=Europe/Paris:20200320T220000
DTSTAMP:20260419T141213
CREATED:20200126T074421Z
LAST-MODIFIED:20200317T183744Z
UID:1932-1584734400-1584741600@www.ecolesaintemarie-pm.fr
SUMMARY:Atelier Kermesse
DESCRIPTION:
URL:https://www.ecolesaintemarie-pm.fr/evenement/atelier-kermesse-2/
CATEGORIES:APEL,Kermesse
ATTACH;FMTTYPE=image/png:https://www.ecolesaintemarie-pm.fr/wp-content/uploads/2020/01/20-03.png
END:VEVENT
BEGIN:VEVENT
DTSTART;TZID=Europe/Paris:20200306T200000
DTEND;TZID=Europe/Paris:20200306T220000
DTSTAMP:20260419T141213
CREATED:20200126T074213Z
LAST-MODIFIED:20200126T074213Z
UID:1929-1583524800-1583532000@www.ecolesaintemarie-pm.fr
SUMMARY:Atelier Kermesse
DESCRIPTION:
URL:https://www.ecolesaintemarie-pm.fr/evenement/atelier-kermesse/
LOCATION:École Sainte Marie\, Rue de l'Egretière\, PETIT-MARS\, 44390\, France
CATEGORIES:APEL,Kermesse
ATTACH;FMTTYPE=image/jpeg:https://www.ecolesaintemarie-pm.fr/wp-content/uploads/2020/01/8E5E7DE8-24F5-474A-9B2C-A317C7A609BE-scaled.jpeg
END:VEVENT
BEGIN:VEVENT
DTSTART;TZID=Europe/Paris:20200121T201500
DTEND;TZID=Europe/Paris:20200121T201500
DTSTAMP:20260419T141213
CREATED:20200112T113036Z
LAST-MODIFIED:20200112T113036Z
UID:1676-1579637700-1579637700@www.ecolesaintemarie-pm.fr
SUMMARY:Conférence "Les écrans : impacts et effets sur le développement de l'enfant"
DESCRIPTION:
URL:https://www.ecolesaintemarie-pm.fr/evenement/conference-les-ecrans-impacts-et-effets-sur-le-developpement-de-lenfant/
LOCATION:École Sainte Marie\, Rue de l'Egretière\, PETIT-MARS\, 44390\, France
CATEGORIES:APEL,Conférence
END:VEVENT
BEGIN:VEVENT
DTSTART;TZID=Europe/Paris:20191129T163000
DTEND;TZID=Europe/Paris:20191129T183000
DTSTAMP:20260419T141213
CREATED:20191122T180538Z
LAST-MODIFIED:20200112T113303Z
UID:1471-1575045000-1575052200@www.ecolesaintemarie-pm.fr
SUMMARY:Marché de Noël
DESCRIPTION:
URL:https://www.ecolesaintemarie-pm.fr/evenement/1471/
LOCATION:École Sainte Marie\, Rue de l'Egretière\, PETIT-MARS\, 44390\, France
CATEGORIES:APEL,Marché de Noël
ATTACH;FMTTYPE=image/jpeg:https://www.ecolesaintemarie-pm.fr/wp-content/uploads/2019/11/MarcheNoel2019.jpg
END:VEVENT
BEGIN:VEVENT
DTSTART;TZID=Europe/Paris:20191110T150000
DTEND;TZID=Europe/Paris:20191110T180000
DTSTAMP:20260419T141213
CREATED:20191101T134344Z
LAST-MODIFIED:20200112T113506Z
UID:1236-1573398000-1573408800@www.ecolesaintemarie-pm.fr
SUMMARY:Festival du rire
DESCRIPTION:
URL:https://www.ecolesaintemarie-pm.fr/evenement/festival-du-rire-2/
LOCATION:Complexe Fernand Sastre\, Salle MOLIERE Complexe Fernand SASTRE\, PETIT-MARS\, 44390\, France
CATEGORIES:APEL,OGEC
ATTACH;FMTTYPE=image/jpeg:https://www.ecolesaintemarie-pm.fr/wp-content/uploads/2019/11/AfficheFestivalRire.jpg
END:VEVENT
BEGIN:VEVENT
DTSTART;TZID=Europe/Paris:20191109T203000
DTEND;TZID=Europe/Paris:20191109T233000
DTSTAMP:20260419T141213
CREATED:20191101T124740Z
LAST-MODIFIED:20200112T113403Z
UID:1232-1573331400-1573342200@www.ecolesaintemarie-pm.fr
SUMMARY:Festival du rire
DESCRIPTION:
URL:https://www.ecolesaintemarie-pm.fr/evenement/festival-du-rire/
LOCATION:Complexe Fernand Sastre\, Salle MOLIERE Complexe Fernand SASTRE\, PETIT-MARS\, 44390\, France
CATEGORIES:APEL,OGEC
ATTACH;FMTTYPE=image/jpeg:https://www.ecolesaintemarie-pm.fr/wp-content/uploads/2019/11/AfficheFestivalRire.jpg
END:VEVENT
END:VCALENDAR