BEGIN:VCALENDAR
VERSION:2.0
PRODID:-//Ecole Sainte Marie | Petit-Mars - ECPv6.7.0//NONSGML v1.0//EN
CALSCALE:GREGORIAN
METHOD:PUBLISH
X-WR-CALNAME:Ecole Sainte Marie | Petit-Mars
X-ORIGINAL-URL:https://www.ecolesaintemarie-pm.fr
X-WR-CALDESC:Évènements pour Ecole Sainte Marie | Petit-Mars
REFRESH-INTERVAL;VALUE=DURATION:PT1H
X-Robots-Tag:noindex
X-PUBLISHED-TTL:PT1H
BEGIN:VTIMEZONE
TZID:Europe/Paris
BEGIN:DAYLIGHT
TZOFFSETFROM:+0100
TZOFFSETTO:+0200
TZNAME:CEST
DTSTART:20200329T010000
END:DAYLIGHT
BEGIN:STANDARD
TZOFFSETFROM:+0200
TZOFFSETTO:+0100
TZNAME:CET
DTSTART:20201025T010000
END:STANDARD
BEGIN:DAYLIGHT
TZOFFSETFROM:+0100
TZOFFSETTO:+0200
TZNAME:CEST
DTSTART:20210328T010000
END:DAYLIGHT
BEGIN:STANDARD
TZOFFSETFROM:+0200
TZOFFSETTO:+0100
TZNAME:CET
DTSTART:20211031T010000
END:STANDARD
BEGIN:DAYLIGHT
TZOFFSETFROM:+0100
TZOFFSETTO:+0200
TZNAME:CEST
DTSTART:20220327T010000
END:DAYLIGHT
BEGIN:STANDARD
TZOFFSETFROM:+0200
TZOFFSETTO:+0100
TZNAME:CET
DTSTART:20221030T010000
END:STANDARD
BEGIN:DAYLIGHT
TZOFFSETFROM:+0100
TZOFFSETTO:+0200
TZNAME:CEST
DTSTART:20230326T010000
END:DAYLIGHT
BEGIN:STANDARD
TZOFFSETFROM:+0200
TZOFFSETTO:+0100
TZNAME:CET
DTSTART:20231029T010000
END:STANDARD
END:VTIMEZONE
BEGIN:VEVENT
DTSTART;TZID=Europe/Paris:20230317T163000
DTEND;TZID=Europe/Paris:20230317T170000
DTSTAMP:20260422T122835
CREATED:20221217T152109Z
LAST-MODIFIED:20221217T152109Z
UID:9524-1679070600-1679072400@www.ecolesaintemarie-pm.fr
SUMMARY:Vente de gâteaux 🍪🍰
DESCRIPTION:Devant l’école\, à la sortie de classes 😊
URL:https://www.ecolesaintemarie-pm.fr/evenement/vente-de-gateaux-%f0%9f%8d%aa%f0%9f%8d%b0-5/
LOCATION:École Sainte Marie\, Rue de l'Egretière\, PETIT-MARS\, 44390\, France
CATEGORIES:Classe découverte,Vente de gâteaux
ATTACH;FMTTYPE=image/png:https://www.ecolesaintemarie-pm.fr/wp-content/uploads/2022/12/vdg.png
END:VEVENT
BEGIN:VEVENT
DTSTART;TZID=Europe/Paris:20230304T100000
DTEND;TZID=Europe/Paris:20230304T120000
DTSTAMP:20260422T122835
CREATED:20230220T141301Z
LAST-MODIFIED:20230220T141301Z
UID:10521-1677924000-1677931200@www.ecolesaintemarie-pm.fr
SUMMARY:Collecte de Papier
DESCRIPTION:Pour financer la classe découverte des enfants de CM1 et CM2\, nous comptons sur vous ! \n1) GARDEZ vos papiers\n2) DEPOSEZ votre collecte dans la benne au lieu dit : La Riotelière\, 44390 Petit-Mars (ou dans la poubelle dédiée à cet effet devant l’école)\nProchaine date : 4 mars et 8 avril\, 6 mai\, 3 juin\, 1 juillet de 10h à 12h\nSont interdits : plastiques\, cartons …\nN’hésitez pas à solliciter les entreprises autour de vous !\nPour toute question complémentaire\, merci de vous adresser directement au secrétariat de l’école ou d’envoyer un mail à l’adresse suivante : contact@ecolesaintemarie-pm.fr \n  \n 
URL:https://www.ecolesaintemarie-pm.fr/evenement/collecte-de-papier-8/
LOCATION:La Riotelière\, 44390 Petit-Mars\, La Riotelière\, Petit-Mars\, 44390\, France
CATEGORIES:Classe découverte,Collecte de papiers
ATTACH;FMTTYPE=image/png:https://www.ecolesaintemarie-pm.fr/wp-content/uploads/2022/06/papiers.png
END:VEVENT
BEGIN:VEVENT
DTSTART;TZID=Europe/Paris:20230303T163000
DTEND;TZID=Europe/Paris:20230303T170000
DTSTAMP:20260422T122835
CREATED:20221217T152034Z
LAST-MODIFIED:20221217T152034Z
UID:9522-1677861000-1677862800@www.ecolesaintemarie-pm.fr
SUMMARY:Vente de gâteaux 🍪🍰
DESCRIPTION:Devant l’école\, à la sortie de classes 😊
URL:https://www.ecolesaintemarie-pm.fr/evenement/vente-de-gateaux-%f0%9f%8d%aa%f0%9f%8d%b0-4/
LOCATION:École Sainte Marie\, Rue de l'Egretière\, PETIT-MARS\, 44390\, France
CATEGORIES:Classe découverte,Vente de gâteaux
ATTACH;FMTTYPE=image/png:https://www.ecolesaintemarie-pm.fr/wp-content/uploads/2022/12/vdg.png
END:VEVENT
BEGIN:VEVENT
DTSTART;TZID=Europe/Paris:20230205T140000
DTEND;TZID=Europe/Paris:20230205T180000
DTSTAMP:20260422T122835
CREATED:20221217T155522Z
LAST-MODIFIED:20230122T174808Z
UID:9534-1675605600-1675620000@www.ecolesaintemarie-pm.fr
SUMMARY:Loto
DESCRIPTION:
URL:https://www.ecolesaintemarie-pm.fr/evenement/loto-2/
LOCATION:Salle Molière
CATEGORIES:Classe découverte
ATTACH;FMTTYPE=image/jpeg:https://www.ecolesaintemarie-pm.fr/wp-content/uploads/2022/12/31F3jakXH1L._AC_.jpg
END:VEVENT
BEGIN:VEVENT
DTSTART;TZID=Europe/Paris:20230204T100000
DTEND;TZID=Europe/Paris:20230204T120000
DTSTAMP:20260422T122835
CREATED:20221219T125707Z
LAST-MODIFIED:20221219T125707Z
UID:9570-1675504800-1675512000@www.ecolesaintemarie-pm.fr
SUMMARY:Collecte de Papier
DESCRIPTION:Pour financer la classe découverte des enfants de CM1 et CM2\, nous comptons sur vous ! \n1) GARDEZ vos papiers\n2) DEPOSEZ votre collecte dans la benne au lieu dit : La Riotelière\, 44390 Petit-Mars (ou dans la poubelle dédiée à cet effet devant l’école)\nProchaine date : 4 Février et 4 Mars de 10h à 12h\nSont interdits : plastiques\, cartons …\nN’hésitez pas à solliciter les entreprises autour de vous !\nPour toute question complémentaire\, merci de vous adresser directement au secrétariat de l’école ou d’envoyer un mail à l’adresse suivante : contact@ecolesaintemarie-pm.fr \n  \n 
URL:https://www.ecolesaintemarie-pm.fr/evenement/collecte-de-papier-7/
LOCATION:La Riotelière\, 44390 Petit-Mars\, La Riotelière\, Petit-Mars\, 44390\, France
CATEGORIES:Classe découverte,Collecte de papiers
ATTACH;FMTTYPE=image/png:https://www.ecolesaintemarie-pm.fr/wp-content/uploads/2022/06/papiers.png
END:VEVENT
BEGIN:VEVENT
DTSTART;VALUE=DATE:20230108
DTEND;VALUE=DATE:20230115
DTSTAMP:20260422T122835
CREATED:20221217T151554Z
LAST-MODIFIED:20221217T151724Z
UID:9511-1673136000-1673740799@www.ecolesaintemarie-pm.fr
SUMMARY:Classe Découverte 🗻⛷️❄️⛄
DESCRIPTION:Les classes de CM1/CM2 partent pour 1 semaine à Gavarnie\, dans les Pyrénées. \nAu programme : \n\nSki\nRaquettes\nPatinage\nConstruction d’un igloo\nVisite d’une centrale\nFiesta 🥳
URL:https://www.ecolesaintemarie-pm.fr/evenement/classe-decouverte-%f0%9f%97%bb%e2%9b%b7%ef%b8%8f%e2%9d%84%ef%b8%8f%e2%9b%84/
LOCATION:Gavarnie\, Gavarnie-Gèdre\, 65120\, France
CATEGORIES:Classe découverte
ATTACH;FMTTYPE=image/gif:https://www.ecolesaintemarie-pm.fr/wp-content/uploads/2022/12/LesBronzesFontDuSkiGIF.gif
END:VEVENT
BEGIN:VEVENT
DTSTART;TZID=Europe/Paris:20230107T100000
DTEND;TZID=Europe/Paris:20230107T120000
DTSTAMP:20260422T122835
CREATED:20221219T125626Z
LAST-MODIFIED:20221219T125739Z
UID:9568-1673085600-1673092800@www.ecolesaintemarie-pm.fr
SUMMARY:Collecte de Papier
DESCRIPTION:Pour financer la classe découverte des enfants de CM1 et CM2\, nous comptons sur vous ! \n1) GARDEZ vos papiers\n2) DEPOSEZ votre collecte dans la benne au lieu dit : La Riotelière\, 44390 Petit-Mars (ou dans la poubelle dédiée à cet effet devant l’école)\nProchaine date : 7 janvier\, 4 Février et 4 Mars de 10h à 12h\nSont interdits : plastiques\, cartons …\nN’hésitez pas à solliciter les entreprises autour de vous !\nPour toute question complémentaire\, merci de vous adresser directement au secrétariat de l’école ou d’envoyer un mail à l’adresse suivante : contact@ecolesaintemarie-pm.fr \n  \n 
URL:https://www.ecolesaintemarie-pm.fr/evenement/collecte-de-papier-6/
LOCATION:La Riotelière\, 44390 Petit-Mars\, La Riotelière\, Petit-Mars\, 44390\, France
CATEGORIES:Classe découverte,Collecte de papiers
ATTACH;FMTTYPE=image/png:https://www.ecolesaintemarie-pm.fr/wp-content/uploads/2022/06/papiers.png
END:VEVENT
BEGIN:VEVENT
DTSTART;VALUE=DATE:20221210
DTEND;VALUE=DATE:20221211
DTSTAMP:20260422T122835
CREATED:20221110T113157Z
LAST-MODIFIED:20221110T113157Z
UID:8748-1670630400-1670716799@www.ecolesaintemarie-pm.fr
SUMMARY:Collecte de Papier
DESCRIPTION:Pour financer la classe découverte des enfants de CM1 et CM2\, nous comptons sur vous ! \n1) GARDEZ vos papiers\n2) DEPOSEZ votre collecte dans la benne au lieu dit : La Riotelière\, 44390 Petit-Mars (ou dans la poubelle dédiée à cet effet devant l’école)\nProchaine date : 10 Décembre et 7 Janvier de 10h à 12h\nSont interdits : plastiques\, cartons …\nN’hésitez pas à solliciter les entreprises autour de vous !\nPour toute question complémentaire\, merci de vous adresser directement au secrétariat de l’école ou d’envoyer un mail à l’adresse suivante : contact@ecolesaintemarie-pm.fr \n  \n 
URL:https://www.ecolesaintemarie-pm.fr/evenement/collecte-de-papier-5/
LOCATION:La Riotelière\, 44390 Petit-Mars\, La Riotelière\, Petit-Mars\, 44390\, France
CATEGORIES:Classe découverte,Collecte de papiers
ATTACH;FMTTYPE=image/png:https://www.ecolesaintemarie-pm.fr/wp-content/uploads/2022/06/papiers.png
END:VEVENT
BEGIN:VEVENT
DTSTART;TZID=Europe/Paris:20221129T183000
DTEND;TZID=Europe/Paris:20221129T200000
DTSTAMP:20260422T122835
CREATED:20221110T112753Z
LAST-MODIFIED:20221110T112939Z
UID:8742-1669746600-1669752000@www.ecolesaintemarie-pm.fr
SUMMARY:Réunion Classe de Neige CM1/CM2
DESCRIPTION:
URL:https://www.ecolesaintemarie-pm.fr/evenement/reunion-classe-de-neige-cm1-cm2/
LOCATION:École Sainte Marie\, Rue de l'Egretière\, PETIT-MARS\, 44390\, France
CATEGORIES:Classe découverte
END:VEVENT
BEGIN:VEVENT
DTSTART;VALUE=DATE:20221112
DTEND;VALUE=DATE:20221113
DTSTAMP:20260422T122835
CREATED:20221110T112656Z
LAST-MODIFIED:20221110T112656Z
UID:8739-1668211200-1668297599@www.ecolesaintemarie-pm.fr
SUMMARY:Collecte de Papier
DESCRIPTION:Pour financer la classe découverte des enfants de CM1 et CM2\, nous comptons sur vous ! \n1) GARDEZ vos papiers\n2) DEPOSEZ votre collecte dans la benne au lieu dit : La Riotelière\, 44390 Petit-Mars (ou dans la poubelle dédiée à cet effet devant l’école)\nProchaine date 12 Novembre puis 10 Décembre et 7 Janvier de 10h à 12h\nSont interdits : plastiques\, cartons …\nN’hésitez pas à solliciter les entreprises autour de vous !\nPour toute question complémentaire\, merci de vous adresser directement au secrétariat de l’école ou d’envoyer un mail à l’adresse suivante : contact@ecolesaintemarie-pm.fr \n  \n 
URL:https://www.ecolesaintemarie-pm.fr/evenement/collecte-de-papier-4/
LOCATION:La Riotelière\, 44390 Petit-Mars\, La Riotelière\, Petit-Mars\, 44390\, France
CATEGORIES:Classe découverte,Collecte de papiers
ATTACH;FMTTYPE=image/png:https://www.ecolesaintemarie-pm.fr/wp-content/uploads/2022/06/papiers.png
END:VEVENT
BEGIN:VEVENT
DTSTART;VALUE=DATE:20220910
DTEND;VALUE=DATE:20220911
DTSTAMP:20260422T122835
CREATED:20220908T080024Z
LAST-MODIFIED:20220908T080218Z
UID:7704-1662768000-1662854399@www.ecolesaintemarie-pm.fr
SUMMARY:Collecte de Papier
DESCRIPTION:Pour financer la classe découverte des enfants de CM1 et CM2\, nous comptons sur vous !\n1) GARDEZ vos papiers\n2) DEPOSEZ votre collecte dans la benne au lieu dit : La Riotelière\, 44390 Petit-Mars (ou dans la poubelle dédiée à cet effet devant l’école)\nProchaine date 10 Septembre et de nouvelles dates à venir.\nSont interdits : plastiques\, cartons …\nN’hésitez pas à solliciter les entreprises autour de vous !\nPour toute question complémentaire\, merci de vous adresser directement au secrétariat de l’école ou d’envoyer un mail à l’adresse suivante : contact@ecolesaintemarie-pm.fr \n \n \n 
URL:https://www.ecolesaintemarie-pm.fr/evenement/collecte-de-papier-3/
LOCATION:La Riotelière\, 44390 Petit-Mars\, La Riotelière\, Petit-Mars\, 44390\, France
CATEGORIES:Classe découverte,Collecte de papiers
ATTACH;FMTTYPE=image/png:https://www.ecolesaintemarie-pm.fr/wp-content/uploads/2022/06/papiers.png
END:VEVENT
BEGIN:VEVENT
DTSTART;VALUE=DATE:20220702
DTEND;VALUE=DATE:20220703
DTSTAMP:20260422T122835
CREATED:20220602T070941Z
LAST-MODIFIED:20220602T070941Z
UID:6573-1656720000-1656806399@www.ecolesaintemarie-pm.fr
SUMMARY:Collecte de Papier
DESCRIPTION:Pour financer la classe découverte des enfants de CE2 et CM1\, nous comptons sur vous !\n1) GARDEZ vos papiers\n2) DEPOSEZ votre collecte dans la benne au lieu dit : La Riotelière 44390 Petit-Mars\nAux dates des collectes : 4 Juin – 2 Juillet – 10 Septembre\nSont interdits : plastiques\, cartons …\nN’hésitez pas à solliciter les entreprises autour de vous !\nPour toute question complémentaire\, merci de vous adresser directement au secrétariat de l’école ou d’envoyer un mail à l’adresse suivante : contact@ecolesaintemarie-pm.fr
URL:https://www.ecolesaintemarie-pm.fr/evenement/collecte-de-papier-2/
LOCATION:La Riotelière\, 44390 Petit-Mars\, La Riotelière\, Petit-Mars\, 44390\, France
CATEGORIES:Classe découverte,Collecte de papiers
ATTACH;FMTTYPE=image/png:https://www.ecolesaintemarie-pm.fr/wp-content/uploads/2022/06/papiers.png
END:VEVENT
BEGIN:VEVENT
DTSTART;VALUE=DATE:20220619
DTEND;VALUE=DATE:20220620
DTSTAMP:20260422T122835
CREATED:20220412T200802Z
LAST-MODIFIED:20220412T200802Z
UID:5716-1655596800-1655683199@www.ecolesaintemarie-pm.fr
SUMMARY:Vide ta Chambre
DESCRIPTION:Nous organisons pour la première fois à l’école un Vide ta Chambre ! \nIl s’agit d’un vide grenier dédié exclusivement à l’univers de la puériculture (jeux\, jouets\, vêtements pour enfants\, accessoires…). \nL’évènement se déroulera\, dans la cour de l’école\, sur la journée du Dimanche 19 Juin 2022. Nous prévoyons également sur place : restauration\, barbes à papa\, brochettes de bonbons\, etc… \nVenez nombreux ! \nRéservation des stands et plus d’informations par email : videtachambre.esm@gmail.com
URL:https://www.ecolesaintemarie-pm.fr/evenement/vide-ta-chambre/
LOCATION:École Sainte Marie\, Rue de l'Egretière\, PETIT-MARS\, 44390\, France
CATEGORIES:Classe découverte
ATTACH;FMTTYPE=image/png:https://www.ecolesaintemarie-pm.fr/wp-content/uploads/2022/04/miniature-vtc.png
END:VEVENT
BEGIN:VEVENT
DTSTART;TZID=Europe/Paris:20220611T090000
DTEND;TZID=Europe/Paris:20220611T120000
DTSTAMP:20260422T122835
CREATED:20220412T195031Z
LAST-MODIFIED:20220412T195031Z
UID:5705-1654938000-1654948800@www.ecolesaintemarie-pm.fr
SUMMARY:Collecte de Ferraille
DESCRIPTION:Samedi 11 Juin de 9h à 12h \nCollecte de ferraille sur le parking de l’école Sainte Marie Petit-Mars \nPour financer la classe découverte des enfants de CE2 et CM1
URL:https://www.ecolesaintemarie-pm.fr/evenement/collecte-de-ferraille/
LOCATION:École Sainte Marie\, Rue de l'Egretière\, PETIT-MARS\, 44390\, France
CATEGORIES:Classe découverte,Collecte de ferraille
ATTACH;FMTTYPE=image/jpeg:https://www.ecolesaintemarie-pm.fr/wp-content/uploads/2022/04/ferraille.jpg
END:VEVENT
BEGIN:VEVENT
DTSTART;VALUE=DATE:20220604
DTEND;VALUE=DATE:20220605
DTSTAMP:20260422T122835
CREATED:20220602T070003Z
LAST-MODIFIED:20220602T070821Z
UID:6565-1654300800-1654387199@www.ecolesaintemarie-pm.fr
SUMMARY:Collecte de Papier
DESCRIPTION:Pour financer la classe découverte des enfants de CE2 et CM1\, nous comptons sur vous !\n1) GARDEZ vos papiers\n2) DEPOSEZ votre collecte dans la benne au lieu dit : La Riotelière 44390 Petit-Mars\nAux dates des collectes : 4 Juin – 2 Juillet – 10 Septembre\nSont interdits : plastiques\, cartons …\nN’hésitez pas à solliciter les entreprises autour de vous !\nPour toute question complémentaire\, merci de vous adresser directement au secrétariat de l’école ou d’envoyer un mail à l’adresse suivante : contact@ecolesaintemarie-pm.fr
URL:https://www.ecolesaintemarie-pm.fr/evenement/collecte-de-papier/
LOCATION:La Riotelière\, 44390 Petit-Mars\, La Riotelière\, Petit-Mars\, 44390\, France
CATEGORIES:Classe découverte,Collecte de papiers
ATTACH;FMTTYPE=image/png:https://www.ecolesaintemarie-pm.fr/wp-content/uploads/2022/06/papiers.png
END:VEVENT
BEGIN:VEVENT
DTSTART;VALUE=DATE:20201016
DTEND;VALUE=DATE:20201017
DTSTAMP:20260422T122835
CREATED:20201007T190559Z
LAST-MODIFIED:20201007T191110Z
UID:2525-1602806400-1602892799@www.ecolesaintemarie-pm.fr
SUMMARY:Vente de calendrier de l'avent By La Cave de l'Erdre
DESCRIPTION:Afin de financer la classe découverte 2021\, les parents des élèves de CM1/CM2 vous proposent une commande de calendrier de l’avent By La Cave de l’Erdre. \nLe calendrier de l’avent est composé de 24 bières artisanales et 100% françaises de 33cl. \nTélécharger le bon de commande
URL:https://www.ecolesaintemarie-pm.fr/evenement/vente-de-calendrier-by-la-cave-de-lerdre/
LOCATION:École Sainte Marie\, Rue de l'Egretière\, PETIT-MARS\, 44390\, France
CATEGORIES:Classe découverte
ATTACH;FMTTYPE=image/jpeg:https://www.ecolesaintemarie-pm.fr/wp-content/uploads/2020/10/Flyer-V2-light.jpg
END:VEVENT
BEGIN:VEVENT
DTSTART;TZID=Europe/Paris:20200608T080000
DTEND;TZID=Europe/Paris:20200616T170000
DTSTAMP:20260422T122835
CREATED:20200607T160349Z
LAST-MODIFIED:20200607T163444Z
UID:2352-1591603200-1592326800@www.ecolesaintemarie-pm.fr
SUMMARY:Vente de Bières avec la micro-brasserie La Gouleyante
DESCRIPTION:Chers parents et enseignants\, afin de financer la classe découverte 2021\, les parents des élèves de CE2/CM1 vous proposent une commande de bières artisanales avec la micro-brasserie de Petit-Mars : La Gouleyante. \nAfin de respecter le protocole sanitaire mis en place à l’école\, le bon de commande vous est envoyé par mail.\nComplété et accompagné de son règlement\, le bon de commande sera à déposer dans la boîte aux lettres de l’école\, le mardi 16 juin 2020 au plus tard. \nPour les familles ne disposant pas d’imprimante\, des bons de commande seront disponibles à l’école.\nLes bons de commande sur papier libre sont également acceptés. \nLe retrait de la commande se fera à la micro-brasserie entre 17h30 et 19h30 le vendredi 19/06/2020 ou le mercredi 24/06/2020 au choix. \nN’hésitez pas à faire bénéficier votre famille\, vos voisins\, vos collègues… de cette action. \nToute l’équipe de la commission classe découverte et les enfants vous remercient par avance pour votre participation. \nLa Gouleyante\n15 boulevard Saint-Laurent\n44390 Petit Mars \nContact : lagouleyante@gmail.com
URL:https://www.ecolesaintemarie-pm.fr/evenement/vente-de-bieres-avec-la-micro-brasserie-la-gouleyante/
LOCATION:La Gouleyante\, 15 boulevard Saint-Laurent\, Petit Mars\, 44390\, France
CATEGORIES:Classe découverte
ATTACH;FMTTYPE=image/png:https://www.ecolesaintemarie-pm.fr/wp-content/uploads/2020/06/2000607-Action-vente-bières.png
END:VEVENT
BEGIN:VEVENT
DTSTART;TZID=Europe/Paris:20200202T140000
DTEND;TZID=Europe/Paris:20200202T140000
DTSTAMP:20260422T122835
CREATED:20200126T203842Z
LAST-MODIFIED:20200127T120005Z
UID:1956-1580652000-1580652000@www.ecolesaintemarie-pm.fr
SUMMARY:Loto
DESCRIPTION:
URL:https://www.ecolesaintemarie-pm.fr/evenement/loto/
LOCATION:Complexe Fernand Sastre\, Salle MOLIERE Complexe Fernand SASTRE\, PETIT-MARS\, 44390\, France
CATEGORIES:Classe découverte
ATTACH;FMTTYPE=image/jpeg:https://www.ecolesaintemarie-pm.fr/wp-content/uploads/2020/01/loto2020-scaled.jpg
END:VEVENT
END:VCALENDAR